BEGIN:VCALENDAR
VERSION:2.0
PRODID:-//jEvents 2.0 for Joomla//EN
CALSCALE:GREGORIAN
METHOD:PUBLISH
BEGIN:VTIMEZONE
TZID:Europe/Berlin
BEGIN:STANDARD
DTSTART:20260302T160000
RDATE:20260329T030000
TZOFFSETFROM:+0200
TZOFFSETTO:+0100
TZNAME:Europe/Berlin CET
END:STANDARD
BEGIN:STANDARD
DTSTART:20261025T020000
RDATE:20270328T030000
TZOFFSETFROM:+0200
TZOFFSETTO:+0100
TZNAME:Europe/Berlin CET
END:STANDARD
BEGIN:STANDARD
DTSTART:20271031T020000
RDATE:20280326T030000
TZOFFSETFROM:+0200
TZOFFSETTO:+0100
TZNAME:Europe/Berlin CET
END:STANDARD
BEGIN:STANDARD
DTSTART:20281029T020000
RDATE:20290325T030000
TZOFFSETFROM:+0200
TZOFFSETTO:+0100
TZNAME:Europe/Berlin CET
END:STANDARD
BEGIN:STANDARD
DTSTART:20291028T020000
RDATE:20300331T030000
TZOFFSETFROM:+0200
TZOFFSETTO:+0100
TZNAME:Europe/Berlin CET
END:STANDARD
BEGIN:STANDARD
DTSTART:20301027T020000
RDATE:20310330T030000
TZOFFSETFROM:+0200
TZOFFSETTO:+0100
TZNAME:Europe/Berlin CET
END:STANDARD
BEGIN:STANDARD
DTSTART:20311026T020000
RDATE:20320328T030000
TZOFFSETFROM:+0200
TZOFFSETTO:+0100
TZNAME:Europe/Berlin CET
END:STANDARD
BEGIN:DAYLIGHT
DTSTART:20260329T030000
RDATE:20261025T020000
TZOFFSETFROM:+0100
TZOFFSETTO:+0200
TZNAME:Europe/Berlin CEST
END:DAYLIGHT
BEGIN:DAYLIGHT
DTSTART:20270328T030000
RDATE:20271031T020000
TZOFFSETFROM:+0100
TZOFFSETTO:+0200
TZNAME:Europe/Berlin CEST
END:DAYLIGHT
BEGIN:DAYLIGHT
DTSTART:20280326T030000
RDATE:20281029T020000
TZOFFSETFROM:+0100
TZOFFSETTO:+0200
TZNAME:Europe/Berlin CEST
END:DAYLIGHT
BEGIN:DAYLIGHT
DTSTART:20290325T030000
RDATE:20291028T020000
TZOFFSETFROM:+0100
TZOFFSETTO:+0200
TZNAME:Europe/Berlin CEST
END:DAYLIGHT
BEGIN:DAYLIGHT
DTSTART:20300331T030000
RDATE:20301027T020000
TZOFFSETFROM:+0100
TZOFFSETTO:+0200
TZNAME:Europe/Berlin CEST
END:DAYLIGHT
BEGIN:DAYLIGHT
DTSTART:20310330T030000
RDATE:20311026T020000
TZOFFSETFROM:+0100
TZOFFSETTO:+0200
TZNAME:Europe/Berlin CEST
END:DAYLIGHT
END:VTIMEZONE
BEGIN:VEVENT
UID:dbfe8864917572d466355222726a23ab
CATEGORIES:Prüfungen
CREATED:20220501T151319
SUMMARY:Prüfung Theorie SKS / SBF / FKN
LOCATION:ZHS\, Seminarraum S5\, TUM Campus am Olympiapark\, Am Olympiacampus 11\, 80
 809 München
DESCRIPTION:Es können folgende Theorieprüfungen abgelegt werden:\n\n- Sportküstenschiff
 erschein (Fragebogen / Kartenaufgabe)\n\n- Sportbootführerschein mit Geltun
 gsbereich Seeschifffahrtsstraßen\n- Sportbootführerschein mit Geltungsberei
 ch Binnenschifffahrtsstraßen unter Maschine\n- Sportbootführerschein mit Ge
 ltungsbereich Binnenschifffahrtsstraßen unter Maschine und Segel\n\n- Fachk
 undenachweis (Kleiner Pyroschein)\n
X-ALT-DESC;FMTTYPE=text/html:<p>Es können folgende Theorieprüfungen abgelegt werden:<br /><br />- Sportk
 üstenschifferschein (Fragebogen / Kartenaufgabe)<br /><br />- Sportbootführ
 erschein mit Geltungsbereich Seeschifffahrtsstraßen<br />- Sportbootführers
 chein mit Geltungsbereich Binnenschifffahrtsstraßen unter Maschine<br />- S
 portbootführerschein mit Geltungsbereich Binnenschifffahrtsstraßen unter Ma
 schine und Segel<br /><br />- Fachkundenachweis (Kleiner Pyroschein)</p>
DTSTAMP:20260423T123204
DTSTART;TZID=Europe/Berlin:20270303T160000
DTEND;TZID=Europe/Berlin:20270303T220000
SEQUENCE:0
TRANSP:OPAQUE
END:VEVENT
END:VCALENDAR