BEGIN:VCALENDAR
VERSION:2.0
PRODID:-//jEvents 2.0 for Joomla//EN
CALSCALE:GREGORIAN
METHOD:PUBLISH
BEGIN:VTIMEZONE
TZID:Europe/Berlin
BEGIN:STANDARD
DTSTART:20251026T020000
RDATE:20260329T030000
TZOFFSETFROM:+0200
TZOFFSETTO:+0100
TZNAME:Europe/Berlin CET
END:STANDARD
BEGIN:STANDARD
DTSTART:20261025T020000
RDATE:20270328T030000
TZOFFSETFROM:+0200
TZOFFSETTO:+0100
TZNAME:Europe/Berlin CET
END:STANDARD
BEGIN:STANDARD
DTSTART:20271031T020000
RDATE:20280326T030000
TZOFFSETFROM:+0200
TZOFFSETTO:+0100
TZNAME:Europe/Berlin CET
END:STANDARD
BEGIN:STANDARD
DTSTART:20281029T020000
RDATE:20290325T030000
TZOFFSETFROM:+0200
TZOFFSETTO:+0100
TZNAME:Europe/Berlin CET
END:STANDARD
BEGIN:STANDARD
DTSTART:20291028T020000
RDATE:20300331T030000
TZOFFSETFROM:+0200
TZOFFSETTO:+0100
TZNAME:Europe/Berlin CET
END:STANDARD
BEGIN:STANDARD
DTSTART:20301027T020000
RDATE:20310330T030000
TZOFFSETFROM:+0200
TZOFFSETTO:+0100
TZNAME:Europe/Berlin CET
END:STANDARD
BEGIN:STANDARD
DTSTART:20311026T020000
RDATE:20320328T030000
TZOFFSETFROM:+0200
TZOFFSETTO:+0100
TZNAME:Europe/Berlin CET
END:STANDARD
BEGIN:DAYLIGHT
DTSTART:20251012T190000
RDATE:20251026T020000
TZOFFSETFROM:+0100
TZOFFSETTO:+0200
TZNAME:Europe/Berlin CEST
END:DAYLIGHT
BEGIN:DAYLIGHT
DTSTART:20260329T030000
RDATE:20261025T020000
TZOFFSETFROM:+0100
TZOFFSETTO:+0200
TZNAME:Europe/Berlin CEST
END:DAYLIGHT
BEGIN:DAYLIGHT
DTSTART:20270328T030000
RDATE:20271031T020000
TZOFFSETFROM:+0100
TZOFFSETTO:+0200
TZNAME:Europe/Berlin CEST
END:DAYLIGHT
BEGIN:DAYLIGHT
DTSTART:20280326T030000
RDATE:20281029T020000
TZOFFSETFROM:+0100
TZOFFSETTO:+0200
TZNAME:Europe/Berlin CEST
END:DAYLIGHT
BEGIN:DAYLIGHT
DTSTART:20290325T030000
RDATE:20291028T020000
TZOFFSETFROM:+0100
TZOFFSETTO:+0200
TZNAME:Europe/Berlin CEST
END:DAYLIGHT
BEGIN:DAYLIGHT
DTSTART:20300331T030000
RDATE:20301027T020000
TZOFFSETFROM:+0100
TZOFFSETTO:+0200
TZNAME:Europe/Berlin CEST
END:DAYLIGHT
BEGIN:DAYLIGHT
DTSTART:20310330T030000
RDATE:20311026T020000
TZOFFSETFROM:+0100
TZOFFSETTO:+0200
TZNAME:Europe/Berlin CEST
END:DAYLIGHT
END:VTIMEZONE
BEGIN:VEVENT
UID:9fb086ee8cf27a301d5390b8e41553d2
CATEGORIES:Infoabende
CREATED:20230820T181829
SUMMARY:Informationsveranstaltung Ausbildung Wassersportlizenzen
LOCATION:ZHS\, Hörsaal 1\, TUM Campus am Olympiapark\, Am Olympiacampus 11\, 80809 M
 ünchen
DESCRIPTION:Informationsveranstaltung für alle Wassersportlizenzen\nSie erhalten einen 
 Überblick über alle möglichen Wassersportlizenzen für Segler und Motorbootf
 ahrer in Deuschland sowie über weitere unbedingt notwendige Lizenzen und Na
 chweise.\nAm Ende der Veranstaltung ist eine Anmeldung zu unseren Kursen mö
 glich.\nDie LIVE-ONLINE Infoveranstaltung am Mi 14.10.2026 hat den gleichen
  Inhalt. Es ist somit egal, welche der beiden Informationsveranstaltungen S
 ie besuchen.\nAufgrund unserer Kapazitäten und vielfältigen Angebotes wird 
 jeder Interessent in den Kursen berücksichtigt!\n\nEintritt frei.\n
X-ALT-DESC;FMTTYPE=text/html:<p><span style="text-decoration: underline;">Informationsveranstaltung für 
 alle Wassersportlizenzen</span><br />Sie erhalten einen Überblick über alle
  möglichen Wassersportlizenzen für Segler und Motorbootfahrer in Deuschland
  sowie über weitere unbedingt notwendige Lizenzen und Nachweise.<br />Am En
 de der Veranstaltung ist eine Anmeldung zu unseren Kursen möglich.<br />Die
  LIVE-ONLINE Infoveranstaltung am Mi 14.10.2026 hat den gleichen Inhalt. Es
  ist somit egal, welche der beiden Informationsveranstaltungen Sie besuchen
 .<br />Aufgrund unserer Kapazitäten und vielfältigen Angebotes wird jeder I
 nteressent in den Kursen berücksichtigt!<br /><br />Eintritt frei.</p>
DTSTAMP:20260423T123320
DTSTART;TZID=Europe/Berlin:20261013T190000
DTEND;TZID=Europe/Berlin:20261013T220000
SEQUENCE:0
TRANSP:OPAQUE
END:VEVENT
END:VCALENDAR