BEGIN:VCALENDAR
VERSION:2.0
PRODID:-//jEvents 2.0 for Joomla//EN
CALSCALE:GREGORIAN
METHOD:PUBLISH
BEGIN:VTIMEZONE
TZID:Europe/Berlin
BEGIN:STANDARD
DTSTART:20251026T020000
RDATE:20260329T030000
TZOFFSETFROM:+0200
TZOFFSETTO:+0100
TZNAME:Europe/Berlin CET
END:STANDARD
BEGIN:STANDARD
DTSTART:20261025T020000
RDATE:20270328T030000
TZOFFSETFROM:+0200
TZOFFSETTO:+0100
TZNAME:Europe/Berlin CET
END:STANDARD
BEGIN:STANDARD
DTSTART:20271031T020000
RDATE:20280326T030000
TZOFFSETFROM:+0200
TZOFFSETTO:+0100
TZNAME:Europe/Berlin CET
END:STANDARD
BEGIN:STANDARD
DTSTART:20281029T020000
RDATE:20290325T030000
TZOFFSETFROM:+0200
TZOFFSETTO:+0100
TZNAME:Europe/Berlin CET
END:STANDARD
BEGIN:STANDARD
DTSTART:20291028T020000
RDATE:20300331T030000
TZOFFSETFROM:+0200
TZOFFSETTO:+0100
TZNAME:Europe/Berlin CET
END:STANDARD
BEGIN:STANDARD
DTSTART:20301027T020000
RDATE:20310330T030000
TZOFFSETFROM:+0200
TZOFFSETTO:+0100
TZNAME:Europe/Berlin CET
END:STANDARD
BEGIN:STANDARD
DTSTART:20311026T020000
RDATE:20320328T030000
TZOFFSETFROM:+0200
TZOFFSETTO:+0100
TZNAME:Europe/Berlin CET
END:STANDARD
BEGIN:DAYLIGHT
DTSTART:20251013T190000
RDATE:20251026T020000
TZOFFSETFROM:+0100
TZOFFSETTO:+0200
TZNAME:Europe/Berlin CEST
END:DAYLIGHT
BEGIN:DAYLIGHT
DTSTART:20260329T030000
RDATE:20261025T020000
TZOFFSETFROM:+0100
TZOFFSETTO:+0200
TZNAME:Europe/Berlin CEST
END:DAYLIGHT
BEGIN:DAYLIGHT
DTSTART:20270328T030000
RDATE:20271031T020000
TZOFFSETFROM:+0100
TZOFFSETTO:+0200
TZNAME:Europe/Berlin CEST
END:DAYLIGHT
BEGIN:DAYLIGHT
DTSTART:20280326T030000
RDATE:20281029T020000
TZOFFSETFROM:+0100
TZOFFSETTO:+0200
TZNAME:Europe/Berlin CEST
END:DAYLIGHT
BEGIN:DAYLIGHT
DTSTART:20290325T030000
RDATE:20291028T020000
TZOFFSETFROM:+0100
TZOFFSETTO:+0200
TZNAME:Europe/Berlin CEST
END:DAYLIGHT
BEGIN:DAYLIGHT
DTSTART:20300331T030000
RDATE:20301027T020000
TZOFFSETFROM:+0100
TZOFFSETTO:+0200
TZNAME:Europe/Berlin CEST
END:DAYLIGHT
BEGIN:DAYLIGHT
DTSTART:20310330T030000
RDATE:20311026T020000
TZOFFSETFROM:+0100
TZOFFSETTO:+0200
TZNAME:Europe/Berlin CEST
END:DAYLIGHT
END:VTIMEZONE
BEGIN:VEVENT
UID:4f787740f79e4792b93d688831f4b5bb
CATEGORIES:Infoabende
CREATED:20230820T181952
SUMMARY:Informationsveranstaltung Ausbildung Wassersportlizenzen ONLINE
LOCATION:LIVE-ONLINE-Info
DESCRIPTION:Informationsveranstaltung ONLINE für alle Wassersportlizenzen\nSie erhalten
  einen Überblick über alle möglichen Wassersportlizenzen für Segler und Mot
 orbootfahrer in Deuschland sowie über weitere unbedingt notwendige Lizenzen
  und Nachweise.\nAm Ende der Veranstaltung ist eine Anmeldung zu unseren Ku
 rsen möglich.\nDie Präsenz - Infoveranstaltung am Di 13.10.2026 hat den gle
 ichen Inhalt. Es ist somit egal, welchen der beiden Infoveranstaltungen Sie
  besuchen.\nAufgrund unserer Kapazitäten und vielfältigen Angebote wird jed
 er Interessent in den Kursen berücksichtigt!\nZoom-Meeting beitreten\n\nMee
 ting-ID:  folgt zeitgerecht\n\nEintritt frei.
X-ALT-DESC;FMTTYPE=text/html:<p><span style="text-decoration: underline;">Informationsveranstaltung ONLI
 NE für alle Wassersportlizenzen</span><br />Sie erhalten einen Überblick üb
 er alle möglichen Wassersportlizenzen für Segler und Motorbootfahrer in Deu
 schland sowie über weitere unbedingt notwendige Lizenzen und Nachweise.<br 
 />Am Ende der Veranstaltung ist eine Anmeldung zu unseren Kursen möglich.<b
 r />Die Präsenz - Infoveranstaltung am Di 13.10.2026 hat den gleichen Inhal
 t. Es ist somit egal, welchen der beiden Infoveranstaltungen Sie besuchen.<
 br />Aufgrund unserer Kapazitäten und vielfältigen Angebote wird jeder Inte
 ressent in den Kursen berücksichtigt!</p><div>Zoom-Meeting beitreten<br /><
 br />Meeting-ID:&nbsp; folgt zeitgerecht<br /><br />Eintritt frei.</div>
DTSTAMP:20260423T123303
DTSTART;TZID=Europe/Berlin:20261014T190000
DTEND;TZID=Europe/Berlin:20261014T220000
SEQUENCE:0
TRANSP:OPAQUE
END:VEVENT
END:VCALENDAR