BEGIN:VCALENDAR
VERSION:2.0
PRODID:-//jEvents 2.0 for Joomla//EN
CALSCALE:GREGORIAN
METHOD:PUBLISH
BEGIN:VTIMEZONE
TZID:Europe/Berlin
BEGIN:STANDARD
DTSTART:20251210T130000
RDATE:20260329T030000
TZOFFSETFROM:+0200
TZOFFSETTO:+0100
TZNAME:Europe/Berlin CET
END:STANDARD
BEGIN:STANDARD
DTSTART:20261025T020000
RDATE:20270328T030000
TZOFFSETFROM:+0200
TZOFFSETTO:+0100
TZNAME:Europe/Berlin CET
END:STANDARD
BEGIN:STANDARD
DTSTART:20271031T020000
RDATE:20280326T030000
TZOFFSETFROM:+0200
TZOFFSETTO:+0100
TZNAME:Europe/Berlin CET
END:STANDARD
BEGIN:STANDARD
DTSTART:20281029T020000
RDATE:20290325T030000
TZOFFSETFROM:+0200
TZOFFSETTO:+0100
TZNAME:Europe/Berlin CET
END:STANDARD
BEGIN:STANDARD
DTSTART:20291028T020000
RDATE:20300331T030000
TZOFFSETFROM:+0200
TZOFFSETTO:+0100
TZNAME:Europe/Berlin CET
END:STANDARD
BEGIN:STANDARD
DTSTART:20301027T020000
RDATE:20310330T030000
TZOFFSETFROM:+0200
TZOFFSETTO:+0100
TZNAME:Europe/Berlin CET
END:STANDARD
BEGIN:STANDARD
DTSTART:20311026T020000
RDATE:20320328T030000
TZOFFSETFROM:+0200
TZOFFSETTO:+0100
TZNAME:Europe/Berlin CET
END:STANDARD
BEGIN:DAYLIGHT
DTSTART:20260329T030000
RDATE:20261025T020000
TZOFFSETFROM:+0100
TZOFFSETTO:+0200
TZNAME:Europe/Berlin CEST
END:DAYLIGHT
BEGIN:DAYLIGHT
DTSTART:20270328T030000
RDATE:20271031T020000
TZOFFSETFROM:+0100
TZOFFSETTO:+0200
TZNAME:Europe/Berlin CEST
END:DAYLIGHT
BEGIN:DAYLIGHT
DTSTART:20280326T030000
RDATE:20281029T020000
TZOFFSETFROM:+0100
TZOFFSETTO:+0200
TZNAME:Europe/Berlin CEST
END:DAYLIGHT
BEGIN:DAYLIGHT
DTSTART:20290325T030000
RDATE:20291028T020000
TZOFFSETFROM:+0100
TZOFFSETTO:+0200
TZNAME:Europe/Berlin CEST
END:DAYLIGHT
BEGIN:DAYLIGHT
DTSTART:20300331T030000
RDATE:20301027T020000
TZOFFSETFROM:+0100
TZOFFSETTO:+0200
TZNAME:Europe/Berlin CEST
END:DAYLIGHT
BEGIN:DAYLIGHT
DTSTART:20310330T030000
RDATE:20311026T020000
TZOFFSETFROM:+0100
TZOFFSETTO:+0200
TZNAME:Europe/Berlin CEST
END:DAYLIGHT
END:VTIMEZONE
BEGIN:VEVENT
UID:b8432f649df47c34c9920901e8b02a1d
CATEGORIES:Prüfungen
CREATED:20251016T103625
SUMMARY:Prüfung Praxis SBF (Motorboot), Theorie SBF, FKN
LOCATION:Segelschule Tutzing\, Bootshaus Marienstrasse Ende\, 82327 Tutzing
DESCRIPTION:Praxisprüfung für den Sportbootführerschein mit Geltungsbereich\n- Seeschif
 ffahrtsstraßen\n- Binnenschifffahrtsstraßen unter Maschine\n\nTheorieprüfun
 g ür den Sportbootführerschein mit Geltungsbereich\n- Seeschifffahrtsstraße
 n\n- Binnenschifffahrtsstraßen unter Segel und Maschine\n\nPrüfung Fachkund
 enachweis (Theorie+Praxis)\n\nBeginn 13:00 Uhr\n
X-ALT-DESC;FMTTYPE=text/html:<p>Praxisprüfung für den Sportbootführerschein mit Geltungsbereich<br />- S
 eeschifffahrtsstraßen<br />- Binnenschifffahrtsstraßen unter Maschine<br />
 <br />Theorieprüfung&nbsp;ür den Sportbootführerschein mit Geltungsbereich<
 br />- Seeschifffahrtsstraßen<br />- Binnenschifffahrtsstraßen unter Segel 
 und Maschine<br /><br />Prüfung Fachkundenachweis (Theorie+Praxis)<br /><br
  />Beginn 13:00 Uhr</p>
DTSTAMP:20260423T163328
DTSTART;TZID=Europe/Berlin:20261211T130000
SEQUENCE:0
TRANSP:OPAQUE
END:VEVENT
END:VCALENDAR